BEGIN:VCALENDAR
VERSION:2.0
PRODID:-//wp-events-plugin.com//7.2.3.1//EN
BEGIN:VEVENT
UID:35@gaylordbuilding.org
DTSTART:20260409T190000Z
DTEND:20260409T200000Z
DTSTAMP:20260225T221914Z
URL:https://gaylordbuilding.org/events/maps-with-jason-king/
SUMMARY:Maps! with Jason King
DESCRIPTION:A map lover’s guide to what makes maps great\, and how they i
 nfluence our understanding of the world.
ATTACH;FMTTYPE=image/jpeg:https://gaylordbuilding.org/wp-content/uploads/2
 026/02/Eventbrite-3-with-logo.png
END:VEVENT
END:VCALENDAR