BEGIN:VCALENDAR
VERSION:2.0
PRODID:-//wp-events-plugin.com//7.2.3.1//EN
BEGIN:VEVENT
UID:33@gaylordbuilding.org
DTSTART:20260212T190000Z
DTEND:20260212T200000Z
DTSTAMP:20260128T174848Z
URL:https://gaylordbuilding.org/events/think-drink-ichabod-codding-and-the
 -fight-for-freedom/
SUMMARY:Think & Drink: Ichabod Codding and the Fight for Freedom
DESCRIPTION:The first Think & Drink of the year features student researcher
  Lindsey Minas and her work on abolitionist Ichabod Codding.
ATTACH;FMTTYPE=image/jpeg:https://gaylordbuilding.org/wp-content/uploads/2
 026/01/Gaylord-Building-Eventbrite-Banner.png
CATEGORIES:Think &amp; Drink
END:VEVENT
END:VCALENDAR